BEGIN:VCALENDAR
VERSION:2.0
PRODID:-//eventon.com NONSGML v1.0//EN
CALSCALE:GREGORIAN
METHOD:PUBLISH
BEGIN:VEVENT
UID:69e762fbb081c
DTSTAMP:20260421T114355Z
DTSTART:20250830T120000Z
DTEND:20250830T150000Z
LOCATION:
SUMMARY:Forum des associations
DESCRIPTION:Forum des associations\nhttps://lofficieldepaimboeuf.com/events
 /forum-des-associations/
URL:https://lofficieldepaimboeuf.com/events/forum-des-associations/
END:VEVENT
END:VCALENDAR