BEGIN:VCALENDAR
VERSION:2.0
PRODID:-//eventon.com NONSGML v1.0//EN
CALSCALE:GREGORIAN
METHOD:PUBLISH
BEGIN:VEVENT
UID:69e79650c5513
DTSTAMP:20260421T152256Z
DTSTART:20250829T163000Z
DTEND:20250829T210000Z
LOCATION:
SUMMARY:Ciné plein air
DESCRIPTION:Projection d'un film d'animation captivant qui ravira petits et
  grands.3€ par personne / Prévoir un pique-niqueDépart du Centre Socioc
 ulturel de Paimbœuf Sur inscription : 02.40.27.51.77 • www.csc-mireille
 moyon.fr\nhttps://lofficieldepaimboeuf.com/events/cine-plein-air/
URL:https://lofficieldepaimboeuf.com/events/cine-plein-air/
END:VEVENT
END:VCALENDAR