BEGIN:VCALENDAR
VERSION:2.0
PRODID:-//eventon.com NONSGML v1.0//EN
CALSCALE:GREGORIAN
METHOD:PUBLISH
BEGIN:VEVENT
UID:69e763602d8ee
DTSTAMP:20260421T114536Z
DTSTART:20250815T173000Z
DTEND:20250815T210000Z
LOCATION:
SUMMARY:Cochon grillé - complet
DESCRIPTION:Cochon grillé - complet\nhttps://lofficieldepaimboeuf.com/even
 ts/cochon-grille-complet/
URL:https://lofficieldepaimboeuf.com/events/cochon-grille-complet/
END:VEVENT
END:VCALENDAR