BEGIN:VCALENDAR
VERSION:2.0
PRODID:-//eventon.com NONSGML v1.0//EN
CALSCALE:GREGORIAN
METHOD:PUBLISH
BEGIN:VEVENT
UID:69e762c1735bc
DTSTAMP:20260421T114257Z
DTSTART:20250815T170000Z
DTEND:20250815T215000Z
LOCATION:
SUMMARY:Rendez-vous avec Fantazio
DESCRIPTION:Nous vous convions à la préparation du tournage étrange d’
 un film de huit minutes.Lonely Institute est une chanson de Fantazio\,  qui
  fait allusion au pire et plus vieux métier du monde : la prostitution.Ce 
 film doit évoquer l’isolement ou plutôt à l’inverse la rencontre de 
 personnes que jamais on imaginerait\, [..]\nhttps://lofficieldepaimboeuf.co
 m/events/rendez-vous-avec-fantazio/
URL:https://lofficieldepaimboeuf.com/events/rendez-vous-avec-fantazio/
END:VEVENT
END:VCALENDAR