BEGIN:VCALENDAR
VERSION:2.0
PRODID:-//eventon.com NONSGML v1.0//EN
CALSCALE:GREGORIAN
METHOD:PUBLISH
BEGIN:VEVENT
UID:69e76345dab1b
DTSTAMP:20260421T114509Z
DTSTART:20250906
DTEND:20250907
LOCATION:
SUMMARY:De Saint-Domingue à Haïti
DESCRIPTION:À partir de panneaux\,  d’œuvres originales et d’objets d
 e vitrine\,  l’exposition retrace l’histoire de la colonie française d
 e Saint-Domingue depuis sa création jusqu’à l’indépendance d’Haït
 i en 1804. Les liens maritimes de Saint-Domingue avec Paimbœuf sont prése
 ntés à travers plusieurs exemples. De la fin du XVIIe siècle au début d
 u XIXe[..]\nhttps://lofficieldepaimboeuf.com/events/de-saint-domingue-a-hai
 ti/
URL:https://lofficieldepaimboeuf.com/events/de-saint-domingue-a-haiti/
END:VEVENT
END:VCALENDAR