BEGIN:VCALENDAR
VERSION:2.0
PRODID:-//eventon.com NONSGML v1.0//EN
CALSCALE:GREGORIAN
METHOD:PUBLISH
BEGIN:VEVENT
UID:69e7638c781a4
DTSTAMP:20260421T114620Z
DTSTART:20251128T190000Z
DTEND:20251128T225000Z
LOCATION:
SUMMARY:Luna Silva
DESCRIPTION:Clarinettiste\,  Luna est sa musique. Des racines aux ramificat
 ions multiples proposées comme une évidence. C'est une musique métissée
  : anglais\,  français et espagnol qui porte ses émotions\,  sa quête de
  spiritualité ou ses revendications sociales. Ouverture de la billetterie 
 en septembre 2025.\nhttps://lofficieldepaimboeuf.com/events/luna-silva/
URL:https://lofficieldepaimboeuf.com/events/luna-silva/
END:VEVENT
END:VCALENDAR