BEGIN:VCALENDAR
VERSION:2.0
PRODID:-//eventon.com NONSGML v1.0//EN
CALSCALE:GREGORIAN
METHOD:PUBLISH
BEGIN:VEVENT
UID:69e794e32245d
DTSTAMP:20260421T151651Z
DTSTART:20250801
DTEND:20250802
LOCATION:
SUMMARY:La boutique du partage
DESCRIPTION:Tous les mercredis et vendredis de 9h à 13hOuverture exception
 nelle dans le cadre du festival Détour(s) à Paimbœuf. Pause déjeuner de
  12h30 à 15h La boutique du partage - Mocica (Mouvement pour une Civilisat
 ion Consciente et Autonome) - est un magasin gratuit fonctionnant comme une
  boîte à livres ou une[..]\nhttps://lofficieldepaimboeuf.com/events/la-bo
 utique-du-partage/
URL:https://lofficieldepaimboeuf.com/events/la-boutique-du-partage/
END:VEVENT
END:VCALENDAR