BEGIN:VCALENDAR
VERSION:2.0
PRODID:-//eventon.com NONSGML v1.0//EN
CALSCALE:GREGORIAN
METHOD:PUBLISH
BEGIN:VEVENT
UID:69e76344ede34
DTSTAMP:20260421T114508Z
DTSTART:20250919T183000Z
DTEND:20250919T200000Z
LOCATION:
SUMMARY:Irina Leach & RÃ©my Hervo
DESCRIPTION:La pianiste Irina Leach prÃ©sente un duo qui Ã©voque Ã  la fois
  tradition et modernitÃ©. Entre compositions et arrangements personnels\,  
 son rÃ©pertoire fait coexister les couleurs de plusieurs Ã©poques. Elle sâ€
 ™inspire des grandes figures du be-bop mais aussi de compositeurs comme Rav
 el\,  Debussy\,  Stravinsky. Pour lâ€™accompagner\,  la pianiste a choisi[.
 .]\nhttps://lofficieldepaimboeuf.com/events/irina-leach-duo/
URL:https://lofficieldepaimboeuf.com/events/irina-leach-duo/
END:VEVENT
END:VCALENDAR