BEGIN:VCALENDAR
VERSION:2.0
PRODID:-//eventon.com NONSGML v1.0//EN
CALSCALE:GREGORIAN
METHOD:PUBLISH
BEGIN:VEVENT
UID:69e7630265e0b
DTSTAMP:20260421T114402Z
DTSTART:20251026T180000Z
DTEND:20251026T193000Z
LOCATION:
SUMMARY:Vida Bela
DESCRIPTION:Plongez dans la douce mélancolie de la musique brésilienne av
 ec le duo Vida Bela. Inspirés par l'héritage musical de Baden Powell et V
 inicius de Moraes\,  ils vous invitent à un concert acoustique\,  sans mic
 ro\,  pour une expérience authentique et intimiste.Voix\,  violon : Jenny 
 Galvao / Guitare : Rodrigue Dubois -[..]\nhttps://lofficieldepaimboeuf.com/
 events/vida-bela/
URL:https://lofficieldepaimboeuf.com/events/vida-bela/
END:VEVENT
END:VCALENDAR