BEGIN:VCALENDAR
VERSION:2.0
PRODID:-//eventon.com NONSGML v1.0//EN
CALSCALE:GREGORIAN
METHOD:PUBLISH
BEGIN:VEVENT
UID:69e797e836d2c
DTSTAMP:20260421T152944Z
DTSTART:20250730T153000Z
DTEND:20250730T170000Z
LOCATION:
SUMMARY:Réguler son système nerveux
DESCRIPTION:Un atelier post Sot l’Y Laisse d’Anne-Line BaronProgramme m
 ix de mouvements et pratiques somatiques (issus du yoga\,  braingym\,  etc.
 ) pour se (re)connecter à ses sensations et à son corps et créer du lien
  à soi\,  aux autres et au monde. Tout âge\,  tout sexe\,  aucun niveau (
 rien à réussir) 7[..]\nhttps://lofficieldepaimboeuf.com/events/reguler-so
 n-systeme-nerveux-2/
URL:https://lofficieldepaimboeuf.com/events/reguler-son-systeme-nerveux-2/
END:VEVENT
END:VCALENDAR