BEGIN:VCALENDAR
VERSION:2.0
PRODID:-//eventon.com NONSGML v1.0//EN
CALSCALE:GREGORIAN
METHOD:PUBLISH
BEGIN:VEVENT
UID:69e76325b4a76
DTSTAMP:20260421T114437Z
DTSTART:20250730T063000Z
DTEND:20250730T080000Z
LOCATION:
SUMMARY:Réguler son système nerveux
DESCRIPTION:Un atelier post Sot l'Y Laisse d'Anne-Line BaronProgramme mix d
 e mouvements et pratiques somatiques (issus du yoga\,  braingym\,  etc.) po
 ur se (re)connecter à ses sensations et à son corps et créer du lien à 
 soi\,  aux autres et au monde. Tout âge\,  tout sexe\,  aucun niveau (rien
  à réussir) 7[..]\nhttps://lofficieldepaimboeuf.com/events/reguler-son-sy
 steme-nerveux/
URL:https://lofficieldepaimboeuf.com/events/reguler-son-systeme-nerveux/
END:VEVENT
END:VCALENDAR