BEGIN:VCALENDAR
VERSION:2.0
PRODID:-//eventon.com NONSGML v1.0//EN
CALSCALE:GREGORIAN
METHOD:PUBLISH
BEGIN:VEVENT
UID:69e7631da4f61
DTSTAMP:20260421T114429Z
DTSTART:20250726T113000Z
DTEND:20250726T215000Z
LOCATION:
SUMMARY:Pétanque
DESCRIPTION:Ouvert à toutes et à tous Inscriptions de 13h30 à 14h00. Jet
  du but à 14h. Pour tous renseignements : 06.83.52.32.90 (Pascale).\nhttp
 s://lofficieldepaimboeuf.com/events/concours-de-petanque-en-doublette/
URL:https://lofficieldepaimboeuf.com/events/concours-de-petanque-en-doublette/
END:VEVENT
END:VCALENDAR