BEGIN:VCALENDAR
VERSION:2.0
PRODID:-//eventon.com NONSGML v1.0//EN
CALSCALE:GREGORIAN
METHOD:PUBLISH
BEGIN:VEVENT
UID:69e762b8d947e
DTSTAMP:20260421T114248Z
DTSTART:20250709T170000Z
DTEND:20250709T215000Z
LOCATION:
SUMMARY:Apéritifs musicaux
DESCRIPTION:Le Camping de l'Estuaire vous invite à des apéritifs musicaux
  !Tous les mercredis à partir de 19h.- La Flem le 09 juillet- Lemon Punch 
 le 16 juillet- Duo Malodi le 23 juillet- Les Tontons Chanteurs le 30 juille
 t- Lemon Punch le 06 août- Duo Malodi le 13 août- La Flem[..]\nhttps://lo
 fficieldepaimboeuf.com/events/aperitifs-musicaux/
URL:https://lofficieldepaimboeuf.com/events/aperitifs-musicaux/
END:VEVENT
END:VCALENDAR