BEGIN:VCALENDAR
VERSION:2.0
PRODID:-//eventon.com NONSGML v1.0//EN
CALSCALE:GREGORIAN
METHOD:PUBLISH
BEGIN:VEVENT
UID:69e76360a9cb6
DTSTAMP:20260421T114536Z
DTSTART:20250704T173000Z
DTEND:20250704T215000Z
LOCATION:
SUMMARY:Animations & moules frites
DESCRIPTION:Le camping de l'Estuaire vous invite à des soirées moules fri
 tes & animations chaque vendredi du 04/07 au 29/08 Animations à partir de 
 21h :- Vendredi 11 juillet : Alex le Magicien (Magicien)- Vendredi 18 juill
 et : Jean Pié Pié (Humoriste)- Vendredi 25 juillet : Legal Immitation (I
 mmitateur) - Vendredi 1er août[..]\nhttps://lofficieldepaimboeuf.com/even
 ts/concert-et-moules-frites/
URL:https://lofficieldepaimboeuf.com/events/concert-et-moules-frites/
END:VEVENT
END:VCALENDAR