BEGIN:VCALENDAR
VERSION:2.0
PRODID:-//eventon.com NONSGML v1.0//EN
CALSCALE:GREGORIAN
METHOD:PUBLISH
BEGIN:VEVENT
UID:69e796fd58db9
DTSTAMP:20260421T152549Z
DTSTART:20251019T170000Z
DTEND:20251019T183000Z
LOCATION:
SUMMARY:GogoJuice
DESCRIPTION:GogoJuice est un quatuor explosif venu de Rouen (Normandie)\, 
  naviguant entre rock garage\,  alternatif\,  psyché et shoegaze. Leur é
 nergie brute et leur présence scénique les placent parmi les groupes ém
 ergents les plus prometteurs de la scène normande. Ils ont déjà marqué
  des scènes emblématiques comme Petit Bain\,  Point Éphémère\,  Super
 sonic\,  et ont été programmés sur[..]\nhttps://lofficieldepaimboeuf.com
 /events/gogojuice/
URL:https://lofficieldepaimboeuf.com/events/gogojuice/
END:VEVENT
END:VCALENDAR