BEGIN:VCALENDAR
VERSION:2.0
PRODID:-//eventon.com NONSGML v1.0//EN
CALSCALE:GREGORIAN
METHOD:PUBLISH
BEGIN:VEVENT
UID:69e7971906bd0
DTSTAMP:20260421T152617Z
DTSTART:20250912T183000Z
DTEND:20250912T200000Z
LOCATION:
SUMMARY:Louïse Papier
DESCRIPTION:Louïse Papier est le projet synthpop de Blanche Leblond\,  bas
 siste\,  notamment dans les groupes de rock Championne et Clavicule. Formé
 e aux beaux-arts\,  elle sort un premier EP en juillet 2022 dans lequel ell
 e déployait déjà tout un joli bouquet de synthétiseurs\,  de vieux orgu
 es\,  et de boîtes à rythmes. Aujourd’hui\, [..]\nhttps://lofficieldepa
 imboeuf.com/events/louise-papier/
URL:https://lofficieldepaimboeuf.com/events/louise-papier/
END:VEVENT
END:VCALENDAR