BEGIN:VCALENDAR
VERSION:2.0
PRODID:-//eventon.com NONSGML v1.0//EN
CALSCALE:GREGORIAN
METHOD:PUBLISH
BEGIN:VEVENT
UID:69e797165b81c
DTSTAMP:20260421T152614Z
DTSTART:20250704T170000Z
DTEND:20250704T190000Z
LOCATION:
SUMMARY:Concert aux Flacons
DESCRIPTION:Apéro en musique accompagné de cocktails t carpaccios. Ambian
 ce raffinée\,  détendue\,  ensoleillée.\nhttps://lofficieldepaimboeuf.co
 m/events/concert-aux-flacons/
URL:https://lofficieldepaimboeuf.com/events/concert-aux-flacons/
END:VEVENT
END:VCALENDAR