BEGIN:VCALENDAR
VERSION:2.0
PRODID:-//eventon.com NONSGML v1.0//EN
CALSCALE:GREGORIAN
METHOD:PUBLISH
BEGIN:VEVENT
UID:69e797d7e2f27
DTSTAMP:20260421T152927Z
DTSTART:20250920T120000Z
DTEND:20250920T150000Z
LOCATION:
SUMMARY:La Boule nantaise
DESCRIPTION:Dans le cadre des Journées du Patrimoine\,  l’association La
  Boule Nantaise proposera une initiation.\nhttps://lofficieldepaimboeuf.com
 /events/la-boule-nantaise/
URL:https://lofficieldepaimboeuf.com/events/la-boule-nantaise/
END:VEVENT
END:VCALENDAR