BEGIN:VCALENDAR
VERSION:2.0
PRODID:-//eventon.com NONSGML v1.0//EN
CALSCALE:GREGORIAN
METHOD:PUBLISH
BEGIN:VEVENT
UID:69e762c0c015d
DTSTAMP:20260421T114256Z
DTSTART:20250717T150000Z
DTEND:20250717T200000Z
LOCATION:
SUMMARY:Créateurs•rices du Pays de Retz
DESCRIPTION:Nathalie vous invite au marché de créatrices et créateurs or
 ganisé au camping de Paimbœuf avec différents artisans du Pays de Retz. 
 Seront à ses côtés : Chloé @atelier.coquelicot (créations fleurs sé
 chées)\,  Magalie @les_aiguilles_de_mag (créations couture)\,  Patrice (c
 réations bois) et Jessica @barracaplantes44 (potions magiques).Vous pourre
 z également y découvrir les nouvelles créations de Nathalie[..]\nhttps:/
 /lofficieldepaimboeuf.com/events/marches-de-createurs/
URL:https://lofficieldepaimboeuf.com/events/marches-de-createurs/
END:VEVENT
END:VCALENDAR