BEGIN:VCALENDAR
VERSION:2.0
PRODID:-//eventon.com NONSGML v1.0//EN
CALSCALE:GREGORIAN
METHOD:PUBLISH
BEGIN:VEVENT
UID:69e796fc588b6
DTSTAMP:20260421T152548Z
DTSTART:20250725T123000Z
DTEND:20250725T153000Z
LOCATION:
SUMMARY:Atelier de dessin
DESCRIPTION:Viens dessiner avec Michel Dréano\,  artiste de la galerie à 
 Contre-Courant ! Inscription : 5€ - gaccpbf@gmail.comPhoto Mona Miller\nh
 ttps://lofficieldepaimboeuf.com/events/atelier-de-dessin/
URL:https://lofficieldepaimboeuf.com/events/atelier-de-dessin/
END:VEVENT
END:VCALENDAR