BEGIN:VCALENDAR
VERSION:2.0
PRODID:-//eventon.com NONSGML v1.0//EN
CALSCALE:GREGORIAN
METHOD:PUBLISH
BEGIN:VEVENT
UID:69e763da5bd7d
DTSTAMP:20260421T114738Z
DTSTART:20250708T163000Z
DTEND:20250708T193000Z
LOCATION:
SUMMARY:Veillée des Familles
DESCRIPTION:Jeux en plein air et repas partagé. Gratuit - Entrée librePho
 to Daiga Ellaby\nhttps://lofficieldepaimboeuf.com/events/veillee-des-famill
 es/
URL:https://lofficieldepaimboeuf.com/events/veillee-des-familles/
END:VEVENT
END:VCALENDAR