BEGIN:VCALENDAR
VERSION:2.0
PRODID:-//eventon.com NONSGML v1.0//EN
CALSCALE:GREGORIAN
METHOD:PUBLISH
BEGIN:VEVENT
UID:69e763607b65f
DTSTAMP:20260421T114536Z
DTSTART:20250626T183000Z
DTEND:20250626T215000Z
LOCATION:
SUMMARY:Paco Ibañez
DESCRIPTION:Eddy Maucourt chante Paco Ibañez Au chapeau\nhttps://lofficiel
 depaimboeuf.com/events/paco-ibanez/
URL:https://lofficieldepaimboeuf.com/events/paco-ibanez/
END:VEVENT
END:VCALENDAR