BEGIN:VCALENDAR
VERSION:2.0
PRODID:-//eventon.com NONSGML v1.0//EN
CALSCALE:GREGORIAN
METHOD:PUBLISH
BEGIN:VEVENT
UID:69e796a1f40de
DTSTAMP:20260421T152417Z
DTSTART:20250728T080000Z
DTEND:20250728T140000Z
LOCATION:
SUMMARY:répétitions publiques
DESCRIPTION:Vous êtes invités à venir assister librement aux répétitio
 ns publiques au Hangar de Paimbœuf et à la Chapelle Saint-Charles lundi 2
 8 juillet et mercredi 30 juillet de 10h à 12h30 et de 14h à 16h. GratuitT
 out le programme du festival (pdf)www.eoleenmusiques.fr\nhttps://lofficield
 epaimboeuf.com/events/repetitions-publiques/
URL:https://lofficieldepaimboeuf.com/events/repetitions-publiques/
END:VEVENT
END:VCALENDAR