BEGIN:VCALENDAR
VERSION:2.0
PRODID:-//eventon.com NONSGML v1.0//EN
CALSCALE:GREGORIAN
METHOD:PUBLISH
BEGIN:VEVENT
UID:69e796bf4120d
DTSTAMP:20260421T152447Z
DTSTART:20250803T110000Z
DTEND:20250803T235000Z
LOCATION:
SUMMARY:Le Voyage d’Hiver de Schubert
DESCRIPTION:Les Matins d'Éole Louis Morvan a chanté sur les scènes lyriq
 ues les plus prestigieuses (Opéra de Marseille\,  Teatro di San Carlo\,  T
 héâtre des Champs-Élysées\,  Festival d’Aix-en-Provence\,  Chorégies
  d’Orange…) Il sera le voyageur errant dans l’œuvre la plus personne
 lle\,  la plus existentielle de Schubert. Il sera pour nous l’hiver\,  la
  solitude\, [..]\nhttps://lofficieldepaimboeuf.com/events/le-voyage-dhiver-
 de-schubert/
URL:https://lofficieldepaimboeuf.com/events/le-voyage-dhiver-de-schubert/
END:VEVENT
END:VCALENDAR