BEGIN:VCALENDAR
VERSION:2.0
PRODID:-//eventon.com NONSGML v1.0//EN
CALSCALE:GREGORIAN
METHOD:PUBLISH
BEGIN:VEVENT
UID:69e76250c8983
DTSTAMP:20260421T114104Z
DTSTART:20250704T183000Z
DTEND:20250704T200000Z
LOCATION:
SUMMARY:Bonjour
DESCRIPTION:Collectif français né de la rencontre de musiciens de différ
 ents groupes (Fabulous Sheep\,  Sloy\,  Mata Hari\,  RV\,  Avalon Peacock\
 ,  Tunnel Tunnel...) avec pour envie commune celle de proposer quelque cho
 se de différent\,  d'expérimenter et croiser les genres. Pas de recette
 s donc\,  ni d'appellation particulière\,  mais si l'on devait caractéris
 er la musique Bonjour est un[..]\nhttps://lofficieldepaimboeuf.com/events/b
 onjour/
URL:https://lofficieldepaimboeuf.com/events/bonjour/
END:VEVENT
END:VCALENDAR