BEGIN:VCALENDAR
VERSION:2.0
PRODID:-//eventon.com NONSGML v1.0//EN
CALSCALE:GREGORIAN
METHOD:PUBLISH
BEGIN:VEVENT
UID:69e7964ec24f9
DTSTAMP:20260421T152254Z
DTSTART:20250724T090000Z
DTEND:20250724T215000Z
LOCATION:
SUMMARY:Mozart raconté aux enfants
DESCRIPTION:Les Enfants d'Éole Gratuit\nhttps://lofficieldepaimboeuf.com/e
 vents/mozart-raconte-aux-enfants/
URL:https://lofficieldepaimboeuf.com/events/mozart-raconte-aux-enfants/
END:VEVENT
END:VCALENDAR