BEGIN:VCALENDAR
VERSION:2.0
PRODID:-//eventon.com NONSGML v1.0//EN
CALSCALE:GREGORIAN
METHOD:PUBLISH
BEGIN:VEVENT
UID:69e79a5b2b88d
DTSTAMP:20260421T154011Z
DTSTART:20250625T130000Z
DTEND:20250625T215000Z
LOCATION:
SUMMARY:L'heure du conte
DESCRIPTION:Tu as entre trois et dix ans ? Alors rejoins-nous pour écouter
  des histoires et faire un petit jeu : viens écouter des histoires pleines
  de poésie\,  de sourire\,  de clins d’œil.Entrée libre. Contact : 02.
 28.53.47.66.\nhttps://lofficieldepaimboeuf.com/events/lheure-du-conte-5/
URL:https://lofficieldepaimboeuf.com/events/lheure-du-conte-5/
END:VEVENT
END:VCALENDAR