BEGIN:VCALENDAR
VERSION:2.0
PRODID:-//eventon.com NONSGML v1.0//EN
CALSCALE:GREGORIAN
METHOD:PUBLISH
BEGIN:VEVENT
UID:69e762c186ba7
DTSTAMP:20260421T114257Z
DTSTART:20250808T080000Z
DTEND:20250808T100000Z
LOCATION:
SUMMARY:Cyanotype
DESCRIPTION:Découvrez l'art du cyanotype en venant explorer ce procédé p
 hotographique du 19 siècle utilisant le soleil\,  les végétaux laissent 
 une empreinte blanche sur un fond bleu cyan. Sur inscription : 02.40.27.51
 .77 - www.csc-mireillemoyon.frTarif : 8 € par personneJauge : 9 personnes
 \nhttps://lofficieldepaimboeuf.com/events/cyanotype/
URL:https://lofficieldepaimboeuf.com/events/cyanotype/
END:VEVENT
END:VCALENDAR