BEGIN:VCALENDAR
VERSION:2.0
PRODID:-//eventon.com NONSGML v1.0//EN
CALSCALE:GREGORIAN
METHOD:PUBLISH
BEGIN:VEVENT
UID:69e763602f675
DTSTAMP:20260421T114536Z
DTSTART:20250715T170000Z
DTEND:20250715T200000Z
LOCATION:
SUMMARY:Shabadabada\,  blind test\,  karaoké
DESCRIPTION:Une soirée aux sons de vos titres préférés ! Au programme :
  Shabadabada\,  blind test\,  karaoké.Photo Risto Kokkonen\nhttps://loffic
 ieldepaimboeuf.com/events/soiree-jeux-musicaux-2/
URL:https://lofficieldepaimboeuf.com/events/soiree-jeux-musicaux-2/
END:VEVENT
END:VCALENDAR