BEGIN:VCALENDAR
VERSION:2.0
PRODID:-//eventon.com NONSGML v1.0//EN
CALSCALE:GREGORIAN
METHOD:PUBLISH
BEGIN:VEVENT
UID:69e762206a102
DTSTAMP:20260421T114016Z
DTSTART:20250707T080000Z
DTEND:20250707T100000Z
LOCATION:
SUMMARY:Un\,  deux\,  trois\,  bougez !
DESCRIPTION:Participez à des activités en famille : motricité pour les 0
 -5 ans et jeux sportifs pour les 6-12 ans. Une occasion parfaite pour s'amu
 ser et bouger ensemble ! Gratuit\,  entrée libre\nhttps://lofficieldepaimb
 oeuf.com/events/un-deux-trois-bougez/
URL:https://lofficieldepaimboeuf.com/events/un-deux-trois-bougez/
END:VEVENT
END:VCALENDAR