BEGIN:VCALENDAR
VERSION:2.0
PRODID:-//eventon.com NONSGML v1.0//EN
CALSCALE:GREGORIAN
METHOD:PUBLISH
BEGIN:VEVENT
UID:69e79242b31aa
DTSTAMP:20260421T150538Z
DTSTART:20250807T163000Z
DTEND:20250806T220000Z
LOCATION:
SUMMARY:Barbecue
DESCRIPTION:Soirée barbecue à la Maison des jeunes 15/25 ans - Gratuit\nh
 ttps://lofficieldepaimboeuf.com/events/soiree-barbecue/
URL:https://lofficieldepaimboeuf.com/events/soiree-barbecue/
END:VEVENT
END:VCALENDAR