BEGIN:VCALENDAR
VERSION:2.0
PRODID:-//eventon.com NONSGML v1.0//EN
CALSCALE:GREGORIAN
METHOD:PUBLISH
BEGIN:VEVENT
UID:69e797e7c94f9
DTSTAMP:20260421T152943Z
DTSTART:20250805T120000Z
DTEND:20250805T150000Z
LOCATION:
SUMMARY:Kubb\,  triangle\,  grenouille\,  cornhole\,  pétanque\,  molkky
DESCRIPTION:Jeux en bois et de plein air N’hésitez pas à emmener vos je
 ux si vous le souhaitez ! Gratuit\nhttps://lofficieldepaimboeuf.com/events/
 jeux-exterieurs/
URL:https://lofficieldepaimboeuf.com/events/jeux-exterieurs/
END:VEVENT
END:VCALENDAR