BEGIN:VCALENDAR
VERSION:2.0
PRODID:-//eventon.com NONSGML v1.0//EN
CALSCALE:GREGORIAN
METHOD:PUBLISH
BEGIN:VEVENT
UID:69e762585cbe8
DTSTAMP:20260421T114112Z
DTSTART:20250222T193000Z
DTEND:20250222T210000Z
LOCATION:
SUMMARY:Animal Joy Club
DESCRIPTION:Trio basse\,  batterie\,  guitare-chantParfois il y a des chans
 ons folk. Parfois c’est explosif et fou.Sujets traités : l’anxiété\,
   les animaux\,  les légumes géantes avec des jambes et des bras (liste n
 on-exhaustive).\nhttps://lofficieldepaimboeuf.com/events/animal-joy-club/
URL:https://lofficieldepaimboeuf.com/events/animal-joy-club/
END:VEVENT
END:VCALENDAR