BEGIN:VCALENDAR
VERSION:2.0
PRODID:-//eventon.com NONSGML v1.0//EN
CALSCALE:GREGORIAN
METHOD:PUBLISH
BEGIN:VEVENT
UID:69e797180b6d7
DTSTAMP:20260421T152616Z
DTSTART:20250731T080000Z
DTEND:20250731T100000Z
LOCATION:
SUMMARY:Poésie de papier
DESCRIPTION:Fil de fer\,  matériaux naturels et imagination formeront la r
 ecette parfaite d’une création personnalisée. Sur inscription : 02.40.2
 7.51.77 - secretariat@mireillepaimboeufTarif : 8 € par personne. Jauge : 
 8 personnes\nhttps://lofficieldepaimboeuf.com/events/atelier-creatif-poesie
 -de-papier/
URL:https://lofficieldepaimboeuf.com/events/atelier-creatif-poesie-de-papier/
END:VEVENT
END:VCALENDAR