BEGIN:VCALENDAR
VERSION:2.0
PRODID:-//eventon.com NONSGML v1.0//EN
CALSCALE:GREGORIAN
METHOD:PUBLISH
BEGIN:VEVENT
UID:69e7965549e57
DTSTAMP:20260421T152301Z
DTSTART:20250730T080000Z
DTEND:20250730T100000Z
LOCATION:
SUMMARY:Galets peints
DESCRIPTION:Personnalisez vos galets à l’aide de différentes techniques
  : peinture ou collage\,  et repartez avec une œuvre unique. Sur inscripti
 on : 02.40.27.51.77 - secretariat@mireillepaimboeufTarif : 6 € par person
 ne. Jauge : 12 personnes\nhttps://lofficieldepaimboeuf.com/events/atelier-c
 reatif-galets-peints/
URL:https://lofficieldepaimboeuf.com/events/atelier-creatif-galets-peints/
END:VEVENT
END:VCALENDAR