BEGIN:VCALENDAR
VERSION:2.0
PRODID:-//eventon.com NONSGML v1.0//EN
CALSCALE:GREGORIAN
METHOD:PUBLISH
BEGIN:VEVENT
UID:69e796a33d4dd
DTSTAMP:20260421T152419Z
DTSTART:20250710T093000Z
DTEND:20250710T150000Z
LOCATION:
SUMMARY:Pique-nique et balade
DESCRIPTION:Venez redécouvrir notre belle cité de Paimbœuf\,  entre amis
  ou en famille. Gratuit - prévoir une pique nique\nhttps://lofficieldepaim
 boeuf.com/events/pique-nique-et-balade-a-paimboeuf/
URL:https://lofficieldepaimboeuf.com/events/pique-nique-et-balade-a-paimboeuf/
END:VEVENT
END:VCALENDAR