BEGIN:VCALENDAR
VERSION:2.0
PRODID:-//eventon.com NONSGML v1.0//EN
CALSCALE:GREGORIAN
METHOD:PUBLISH
BEGIN:VEVENT
UID:69e762fc203e8
DTSTAMP:20260421T114356Z
DTSTART:20250620T160000Z
DTEND:20250619T220000Z
LOCATION:
SUMMARY:Courant d'Airs & Anisette et les GlaÃ§ons
DESCRIPTION:Le camping de l'Estuaire vous invite Ã  sa fÃªte de la musique 
 avec Courant d'Airs - groupe vocal\,  reprises pop rock et acoustiques - et
  Anisette et les GlaÃ§ons - trio rÃ©tro et burlesque. Galette saucisse : 5â
 ‚¬\,  sur rÃ©servation au 02.40.27.84.53\,  avant le 20 juin 2025\nhttps://
 lofficieldepaimboeuf.com/events/fete-de-la-musique-au-camping/
URL:https://lofficieldepaimboeuf.com/events/fete-de-la-musique-au-camping/
END:VEVENT
END:VCALENDAR