BEGIN:VCALENDAR
VERSION:2.0
PRODID:-//eventon.com NONSGML v1.0//EN
CALSCALE:GREGORIAN
METHOD:PUBLISH
BEGIN:VEVENT
UID:69e797ade25c5
DTSTAMP:20260421T152845Z
DTSTART:20250620T160000Z
DTEND:20250620T180000Z
LOCATION:
SUMMARY:Nouvelle façade extraordinaire
DESCRIPTION:Dominique Leroy\,  l’artiste incontournable de Paimbœuf\,  n
 ous offre une nouvelle façade.Vernissage de la nouvelle façade extraordin
 aire et portes ouvertes de l'Atelier de Dominique Leroy Impossible de passe
 r à côté de sa maison-atelier située sur les quais : véritable œuvre 
 d’art à ciel ouvert\,  elle évolue au fil des années et[..]\nhttps://l
 officieldepaimboeuf.com/events/la-nouvelle-facade-extraordinaire/
URL:https://lofficieldepaimboeuf.com/events/la-nouvelle-facade-extraordinaire/
END:VEVENT
END:VCALENDAR