BEGIN:VCALENDAR
VERSION:2.0
PRODID:-//eventon.com NONSGML v1.0//EN
CALSCALE:GREGORIAN
METHOD:PUBLISH
BEGIN:VEVENT
UID:69e76301d7708
DTSTAMP:20260421T114401Z
DTSTART:20250606
DTEND:20250607
LOCATION:
SUMMARY:Sixième regard sur Paimbœuf
DESCRIPTION:Pour la sixième année consécutive\,  la Ville de Paimbœuf r
 éitère sa collaboration avec les étudiants de troisième année d’arch
 itecture intérieure de l’École d’Arts Appliqués MJM Graphic Design d
 e Nantes. Cette année\,  les élèves ont travaillé sur la thématique de
 s routes maritimes en lien avec Débord de Loire. Liste des installations[.
 .]\nhttps://lofficieldepaimboeuf.com/events/un-sixieme-regard-sur-paimboeuf
 /
URL:https://lofficieldepaimboeuf.com/events/un-sixieme-regard-sur-paimboeuf/
END:VEVENT
END:VCALENDAR