BEGIN:VCALENDAR
VERSION:2.0
PRODID:-//eventon.com NONSGML v1.0//EN
CALSCALE:GREGORIAN
METHOD:PUBLISH
BEGIN:VEVENT
UID:69e7625243978
DTSTAMP:20260421T114106Z
DTSTART:20250301T193000Z
DTEND:20250301T210000Z
LOCATION:
SUMMARY:La Famille Ginger
DESCRIPTION:Avec La Famille Ginger on joue de bonnes vieilles chansons folk
  : du bluegrass au old time\,  de ballades aux chants de marins. Le tout en
  français s’il vous plaît !\nhttps://lofficieldepaimboeuf.com/events/la
 -famille-ginger/
URL:https://lofficieldepaimboeuf.com/events/la-famille-ginger/
END:VEVENT
END:VCALENDAR