BEGIN:VCALENDAR
VERSION:2.0
PRODID:-//eventon.com NONSGML v1.0//EN
CALSCALE:GREGORIAN
METHOD:PUBLISH
BEGIN:VEVENT
UID:69e7629ff14d2
DTSTAMP:20260421T114223Z
DTSTART:20250315T193000Z
DTEND:20250315T210000Z
LOCATION:
SUMMARY:Arthur Naudin
DESCRIPTION:Arthur vous invite à une traversée burlesque et intimiste\,  
 guidée par sa présence énergique de crooner lunaire teinté d’humour. 
 Accompagné de sa guitare et de son cactus en carton\,  il incarne avec fou
 gue ses chansons où s’entremêlent personnages aux rêves inachevés\,  
 étourdis par l’appel du large ou lancés dans d’espiègles[..]\nhttps:
 //lofficieldepaimboeuf.com/events/arthur-naudin/
URL:https://lofficieldepaimboeuf.com/events/arthur-naudin/
END:VEVENT
END:VCALENDAR