BEGIN:VCALENDAR
VERSION:2.0
PRODID:-//eventon.com NONSGML v1.0//EN
CALSCALE:GREGORIAN
METHOD:PUBLISH
BEGIN:VEVENT
UID:69e763a115b46
DTSTAMP:20260421T114641Z
DTSTART:20250711T183000Z
DTEND:20250711T200000Z
LOCATION:
SUMMARY:Canan Domurcaklı
DESCRIPTION:Canan Domurcakli\,  chanteuse musicienne turque\,  nous invite 
 à une balade à travers la musique traditionnelle anatolienne. Canan s’a
 ccompagne au saz\,  un instrument à corde de la famille des luths attribut
  des ashiks (littéralement les amoureux) et interprète nombre de chansons
  oubliées. Parce que pour elle ces chansons sont les mémoires[..]\nhttps:
 //lofficieldepaimboeuf.com/events/canan-domurcakli-guzelleme/
URL:https://lofficieldepaimboeuf.com/events/canan-domurcakli-guzelleme/
END:VEVENT
END:VCALENDAR