BEGIN:VCALENDAR
VERSION:2.0
PRODID:-//eventon.com NONSGML v1.0//EN
CALSCALE:GREGORIAN
METHOD:PUBLISH
BEGIN:VEVENT
UID:69e763db50530
DTSTAMP:20260421T114739Z
DTSTART:20250803T163000Z
DTEND:20250803T173000Z
LOCATION:
SUMMARY:Heol
DESCRIPTION:Les sonneurs locaux proposent des pièces du répertoire tradit
 ionnel breton et de transmission orale.Gratuit Affiche : Benoit Gautier Tou
 t le programme du festival (pdf)www.eoleenmusiques.fr\nhttps://lofficieldep
 aimboeuf.com/events/heol/
URL:https://lofficieldepaimboeuf.com/events/heol/
END:VEVENT
END:VCALENDAR