BEGIN:VCALENDAR
VERSION:2.0
PRODID:-//eventon.com NONSGML v1.0//EN
CALSCALE:GREGORIAN
METHOD:PUBLISH
BEGIN:VEVENT
UID:69e7634345dd5
DTSTAMP:20260421T114507Z
DTSTART:20250620T060000Z
DTEND:20250622T070000Z
LOCATION:
SUMMARY:Cormoran
DESCRIPTION:Le patrouilleur de service public Cormoran rend visite à sa vi
 lle marraine PaimbœufVisites à bord possibles samedi 21 juin de 14h à 17
 h Depuis 1997\,  un navire aux allures singulières sillonne inlassablemen
 t les eaux métropolitaines françaises.Ce bâtiment de 54 mètres\,  polyv
 alent et véritable sentinelle des mers\,  assure une multitude de missions
 [..]\nhttps://lofficieldepaimboeuf.com/events/escale-du-cormoran/
URL:https://lofficieldepaimboeuf.com/events/escale-du-cormoran/
END:VEVENT
END:VCALENDAR