BEGIN:VCALENDAR
VERSION:2.0
PRODID:-//eventon.com NONSGML v1.0//EN
CALSCALE:GREGORIAN
METHOD:PUBLISH
BEGIN:VEVENT
UID:69e797d704427
DTSTAMP:20260421T152927Z
DTSTART:20250607
DTEND:20250608
LOCATION:
SUMMARY:Virginie Mellerin
DESCRIPTION:Du lundi au vendredi\,  de 10h à 12h et de 14h à 17h - sauf m
 ardi matinVernissage samedi 7 juin à 10h\nhttps://lofficieldepaimboeuf.com
 /events/virginie-mellerin/
URL:https://lofficieldepaimboeuf.com/events/virginie-mellerin/
END:VEVENT
END:VCALENDAR