BEGIN:VCALENDAR
VERSION:2.0
PRODID:-//eventon.com NONSGML v1.0//EN
CALSCALE:GREGORIAN
METHOD:PUBLISH
BEGIN:VEVENT
UID:69e76345ed03b
DTSTAMP:20260421T114509Z
DTSTART:20250803T093000Z
DTEND:20250803T235000Z
LOCATION:
SUMMARY:Classiq'Yoga
DESCRIPTION:Une séance de Yoga en musique dans la pinède de Paimbœuf ave
 c Dominique Piberne\,  professeure de Yoga paimblotine. Sous La Pinède\,  
 rendez-vous en face de la Mairie de Paimbœuf Gratuit Affiche : Benoit Gaut
 ier Tout le programme du festival (pdf)www.eoleenmusiques.fr\nhttps://loffi
 cieldepaimboeuf.com/events/classiqyoga/
URL:https://lofficieldepaimboeuf.com/events/classiqyoga/
END:VEVENT
END:VCALENDAR