BEGIN:VCALENDAR
VERSION:2.0
PRODID:-//eventon.com NONSGML v1.0//EN
CALSCALE:GREGORIAN
METHOD:PUBLISH
BEGIN:VEVENT
UID:69e7976edc351
DTSTAMP:20260421T152742Z
DTSTART:20250802T210000Z
DTEND:20250802T235000Z
LOCATION:
SUMMARY:Jazz à la Chapelle
DESCRIPTION:La nuit d’Éole Pour la première fois\,  le festival accueil
 le le contrebassiste et guitariste nantais Remy Hervo et le clarinettiste B
 enjamin Fryde en collaboration avec Michael CohenWeissert. Trois artistes a
 ux univers singuliers et contrastés pour une rencontre aux frontières du 
 jazz et de la musique classique. Tarifs : 15€ -[..]\nhttps://lofficieldep
 aimboeuf.com/events/jazz-a-la-chapelle/
URL:https://lofficieldepaimboeuf.com/events/jazz-a-la-chapelle/
END:VEVENT
END:VCALENDAR