BEGIN:VCALENDAR
VERSION:2.0
PRODID:-//eventon.com NONSGML v1.0//EN
CALSCALE:GREGORIAN
METHOD:PUBLISH
BEGIN:VEVENT
UID:69e797fa9f148
DTSTAMP:20260421T153002Z
DTSTART:20250802T180000Z
DTEND:20250802T235000Z
LOCATION:
SUMMARY:Une Nouvelle force
DESCRIPTION:Grand concert d'Ã‰ole Â« Ressentant une force nouvelle Â»\,  câ
 €™est ce que Beethoven Ã©crit\,  aprÃ¨s une grave maladie\,  sur la partiti
 on du mouvement lent de son 15e quatuor.Câ€™est cette mÃªme transcendance\,
   cette mÃªme force vitale qui irrigue aussi la sonate de Liszt.Peut-Ãªtre 
 le programme le plus absolu\,  le plus vertigineux\, [..]\nhttps://lofficie
 ldepaimboeuf.com/events/une-nouvelle-force/
URL:https://lofficieldepaimboeuf.com/events/une-nouvelle-force/
END:VEVENT
END:VCALENDAR