BEGIN:VCALENDAR
VERSION:2.0
PRODID:-//eventon.com NONSGML v1.0//EN
CALSCALE:GREGORIAN
METHOD:PUBLISH
BEGIN:VEVENT
UID:69e798b5ab6c4
DTSTAMP:20260421T153309Z
DTSTART:20250802T110000Z
DTEND:20250802T235000Z
LOCATION:
SUMMARY:Les Enfants d'Éole
DESCRIPTION:De l’acoustique à l’électronique\,  une plongée ludique 
 et sensorielle dans l’univers fascinant du son pour éveiller la curiosit
 é des enfants et des plus grands ! Gratuit Affiche : Benoit Gautier Tout l
 e programme du festival (pdf)www.eoleenmusiques.fr\nhttps://lofficieldepaim
 boeuf.com/events/les-enfants-deole/
URL:https://lofficieldepaimboeuf.com/events/les-enfants-deole/
END:VEVENT
END:VCALENDAR