BEGIN:VCALENDAR
VERSION:2.0
PRODID:-//eventon.com NONSGML v1.0//EN
CALSCALE:GREGORIAN
METHOD:PUBLISH
BEGIN:VEVENT
UID:69e763a0d6937
DTSTAMP:20260421T114640Z
DTSTART:20250802T090000Z
DTEND:20250802T235000Z
LOCATION:
SUMMARY:Bach & Breakfast
DESCRIPTION:Les Matins d'ÉoleUn petit-déjeuner en compagnie de Jean-Séba
 stien Bach (qui se levait tôt pour composer) et du magnifique violoncellis
 te américain Rainer Crosette.Avec viennoiseries et boissons chaudes.Réser
 vation conseillée Tarifs : 12€ - 8€Billetterie sur le site de L'Office
  de TourismeTout le programme (pdf)www.eoleenmusiques.fr Affiche : Benoit G
 autier\nhttps://lofficieldepaimboeuf.com/events/les-matins-deole/
URL:https://lofficieldepaimboeuf.com/events/les-matins-deole/
END:VEVENT
END:VCALENDAR